BEGIN:VCALENDAR
VERSION:2.0
PRODID:-//Health Foods by Claudia - ECPv6.15.20//NONSGML v1.0//EN
CALSCALE:GREGORIAN
METHOD:PUBLISH
X-WR-CALNAME:Health Foods by Claudia
X-ORIGINAL-URL:https://healthfoodsbyclaudia.com
X-WR-CALDESC:Events for Health Foods by Claudia
REFRESH-INTERVAL;VALUE=DURATION:PT1H
X-Robots-Tag:noindex
X-PUBLISHED-TTL:PT1H
BEGIN:VTIMEZONE
TZID:America/Detroit
BEGIN:DAYLIGHT
TZOFFSETFROM:-0500
TZOFFSETTO:-0400
TZNAME:EDT
DTSTART:20180311T070000
END:DAYLIGHT
BEGIN:STANDARD
TZOFFSETFROM:-0400
TZOFFSETTO:-0500
TZNAME:EST
DTSTART:20181104T060000
END:STANDARD
BEGIN:DAYLIGHT
TZOFFSETFROM:-0500
TZOFFSETTO:-0400
TZNAME:EDT
DTSTART:20190310T070000
END:DAYLIGHT
BEGIN:STANDARD
TZOFFSETFROM:-0400
TZOFFSETTO:-0500
TZNAME:EST
DTSTART:20191103T060000
END:STANDARD
BEGIN:DAYLIGHT
TZOFFSETFROM:-0500
TZOFFSETTO:-0400
TZNAME:EDT
DTSTART:20200308T070000
END:DAYLIGHT
BEGIN:STANDARD
TZOFFSETFROM:-0400
TZOFFSETTO:-0500
TZNAME:EST
DTSTART:20201101T060000
END:STANDARD
BEGIN:DAYLIGHT
TZOFFSETFROM:-0500
TZOFFSETTO:-0400
TZNAME:EDT
DTSTART:20210314T070000
END:DAYLIGHT
BEGIN:STANDARD
TZOFFSETFROM:-0400
TZOFFSETTO:-0500
TZNAME:EST
DTSTART:20211107T060000
END:STANDARD
BEGIN:DAYLIGHT
TZOFFSETFROM:-0500
TZOFFSETTO:-0400
TZNAME:EDT
DTSTART:20220313T070000
END:DAYLIGHT
BEGIN:STANDARD
TZOFFSETFROM:-0400
TZOFFSETTO:-0500
TZNAME:EST
DTSTART:20221106T060000
END:STANDARD
BEGIN:DAYLIGHT
TZOFFSETFROM:-0500
TZOFFSETTO:-0400
TZNAME:EDT
DTSTART:20230312T070000
END:DAYLIGHT
BEGIN:STANDARD
TZOFFSETFROM:-0400
TZOFFSETTO:-0500
TZNAME:EST
DTSTART:20231105T060000
END:STANDARD
END:VTIMEZONE
BEGIN:VEVENT
DTSTART;TZID=America/Detroit:20221102T183000
DTEND;TZID=America/Detroit:20221102T200000
DTSTAMP:20260424T130011
CREATED:20221025T154720Z
LAST-MODIFIED:20221025T154720Z
UID:1584-1667413800-1667419200@healthfoodsbyclaudia.com
SUMMARY:The Power of Aromatherapy with Neil Levin from Now Foods
DESCRIPTION:
URL:https://healthfoodsbyclaudia.com/event/the-power-of-aromatherapy-with-neil-levin-from-now-foods/
END:VEVENT
BEGIN:VEVENT
DTSTART;TZID=America/Detroit:20221019T190000
DTEND;TZID=America/Detroit:20221019T210000
DTSTAMP:20260424T130011
CREATED:20221008T205217Z
LAST-MODIFIED:20221008T205217Z
UID:1561-1666206000-1666213200@healthfoodsbyclaudia.com
SUMMARY:How to Support Your Immune System in the 21st Century
DESCRIPTION:
URL:https://healthfoodsbyclaudia.com/event/how-to-support-your-immune-system-in-the-21st-century/
END:VEVENT
BEGIN:VEVENT
DTSTART;TZID=America/Detroit:20220817T120000
DTEND;TZID=America/Detroit:20220817T170000
DTSTAMP:20260424T130011
CREATED:20220813T135746Z
LAST-MODIFIED:20220813T135929Z
UID:1541-1660737600-1660755600@healthfoodsbyclaudia.com
SUMMARY:Live Demonstration with George and Ingrid!
DESCRIPTION:Come join us Wednesday\, August 17th. George and Ingrid  will be doing a live demonstration with NuZest Vegetarian Protein\, Wiley’s Wild Alaskan Fish Oil and  other brans as well. We’re looking forward to seeing you this Wednesday\, August 17th.
URL:https://healthfoodsbyclaudia.com/event/live-demonstration-with-george-and-ingrid/
END:VEVENT
BEGIN:VEVENT
DTSTART;TZID=America/Detroit:20220618T100000
DTEND;TZID=America/Detroit:20220618T163000
DTSTAMP:20260424T130011
CREATED:20220616T140227Z
LAST-MODIFIED:20220616T151444Z
UID:1533-1655546400-1655569800@healthfoodsbyclaudia.com
SUMMARY:Live Demonstration Saturday\, June 18th
DESCRIPTION:-Barry from Livia Global Probiotics \n-George & Ingrid representing Nu Zest Plant Based Protein and Wiley’s Wild Alaskan Fish Oil
URL:https://healthfoodsbyclaudia.com/event/live-demonstration-saturday-june-18th/
END:VEVENT
BEGIN:VEVENT
DTSTART;TZID=America/Detroit:20220326T130000
DTEND;TZID=America/Detroit:20220326T160000
DTSTAMP:20260424T130011
CREATED:20220326T165835Z
LAST-MODIFIED:20220326T165835Z
UID:1481-1648299600-1648310400@healthfoodsbyclaudia.com
SUMMARY:Live Demonstration Today!
DESCRIPTION:Live demonstration today with George and Ingrid. NuZest Plant Based Protein Powder and Wiley’s Wild Alaskan Oil!
URL:https://healthfoodsbyclaudia.com/event/live-demonstration-today/
END:VEVENT
BEGIN:VEVENT
DTSTART;TZID=America/Detroit:20200325T190000
DTEND;TZID=America/Detroit:20200325T203000
DTSTAMP:20260424T130011
CREATED:20200229T183823Z
LAST-MODIFIED:20200320T180021Z
UID:1247-1585162800-1585168200@healthfoodsbyclaudia.com
SUMMARY:Class Cancelled. Eat Right According to Your Blood Type Diet & Feel GREAT!
DESCRIPTION:“Eat According to Your Blood Type” class will be rescheduled at a later date. \n 
URL:https://healthfoodsbyclaudia.com/event/eat-right-according-to-your-blood-type-diet-feel-great/
END:VEVENT
BEGIN:VEVENT
DTSTART;TZID=America/Detroit:20200227T190000
DTEND;TZID=America/Detroit:20200227T203000
DTSTAMP:20260424T130011
CREATED:20200117T201624Z
LAST-MODIFIED:20200117T201624Z
UID:1238-1582830000-1582835400@healthfoodsbyclaudia.com
SUMMARY:Support Your Immune & Anti-Inflammatory System w/Natural Medicines
DESCRIPTION:
URL:https://healthfoodsbyclaudia.com/event/support-your-immune-anti-inflammatory-system-w-natural-medicines/
END:VEVENT
BEGIN:VEVENT
DTSTART;TZID=America/Detroit:20200129T190000
DTEND;TZID=America/Detroit:20200129T203000
DTSTAMP:20260424T130011
CREATED:20200108T181205Z
LAST-MODIFIED:20200108T181205Z
UID:1234-1580324400-1580329800@healthfoodsbyclaudia.com
SUMMARY:New Year! New Detox
DESCRIPTION:
URL:https://healthfoodsbyclaudia.com/event/new-year-new-detox/
END:VEVENT
BEGIN:VEVENT
DTSTART;TZID=America/Detroit:20191119T190000
DTEND;TZID=America/Detroit:20191119T200000
DTSTAMP:20260424T130011
CREATED:20191030T201246Z
LAST-MODIFIED:20191030T201246Z
UID:1224-1574190000-1574193600@healthfoodsbyclaudia.com
SUMMARY:Meet the Diva of Digestion! Free Consumer Seminar w/Brenda Watson
DESCRIPTION:
URL:https://healthfoodsbyclaudia.com/event/meet-the-diva-of-digestion-free-consumer-seminar-w-brenda-watson/
END:VEVENT
BEGIN:VEVENT
DTSTART;VALUE=DATE:20191109
DTEND;VALUE=DATE:20191111
DTSTAMP:20260424T130011
CREATED:20191009T173135Z
LAST-MODIFIED:20191009T173135Z
UID:1211-1573257600-1573430399@healthfoodsbyclaudia.com
SUMMARY:Customer Appreciation Weekend Nov 9 & 10 2019
DESCRIPTION:
URL:https://healthfoodsbyclaudia.com/event/customer-appreciation-weekend-nov-9-10-2019/
END:VEVENT
BEGIN:VEVENT
DTSTART;TZID=America/Detroit:20191104T190000
DTEND;TZID=America/Detroit:20191104T210000
DTSTAMP:20260424T130011
CREATED:20191017T134441Z
LAST-MODIFIED:20191017T134441Z
UID:1220-1572894000-1572901200@healthfoodsbyclaudia.com
SUMMARY:Dr. Cass Ingram Free Consumer Lecture: Got Pain & Inflammation?
DESCRIPTION:
URL:https://healthfoodsbyclaudia.com/event/dr-cass-ingram-free-consumer-lecture-got-pain-inflammation/
END:VEVENT
BEGIN:VEVENT
DTSTART;TZID=America/Detroit:20191102T110000
DTEND;TZID=America/Detroit:20191102T150000
DTSTAMP:20260424T130011
CREATED:20191030T201947Z
LAST-MODIFIED:20191030T201947Z
UID:1227-1572692400-1572706800@healthfoodsbyclaudia.com
SUMMARY:Dr. Judy St. John from St. John Chiropractic
DESCRIPTION:
URL:https://healthfoodsbyclaudia.com/event/dr-judy-st-john-from-st-john-chiropractic-2/
END:VEVENT
BEGIN:VEVENT
DTSTART;TZID=America/Detroit:20191026T090000
DTEND;TZID=America/Detroit:20191026T190000
DTSTAMP:20260424T130011
CREATED:20191009T133316Z
LAST-MODIFIED:20191009T134930Z
UID:1206-1572080400-1572116400@healthfoodsbyclaudia.com
SUMMARY:5% Give Back Day!
DESCRIPTION:
URL:https://healthfoodsbyclaudia.com/event/5-give-back-day/
END:VEVENT
BEGIN:VEVENT
DTSTART;TZID=America/Detroit:20191023T190000
DTEND;TZID=America/Detroit:20191023T203000
DTSTAMP:20260424T130012
CREATED:20191009T132712Z
LAST-MODIFIED:20191009T132712Z
UID:1202-1571857200-1571862600@healthfoodsbyclaudia.com
SUMMARY:Protect Yourself From Modern Day Toxins
DESCRIPTION:
URL:https://healthfoodsbyclaudia.com/event/protect-yourself-from-modern-day-toxins/
END:VEVENT
BEGIN:VEVENT
DTSTART;TZID=America/Detroit:20190925T190000
DTEND;TZID=America/Detroit:20190925T203000
DTSTAMP:20260424T130012
CREATED:20190821T155709Z
LAST-MODIFIED:20190821T155709Z
UID:1181-1569438000-1569443400@healthfoodsbyclaudia.com
SUMMARY:Silver Lining w/ Sally Byrd
DESCRIPTION:
URL:https://healthfoodsbyclaudia.com/event/silver-lining-w-sally-byrd/
LOCATION:Health Foods by Claudia\, 3904 Secor Rd\, Toledo\, OH\, 43623\, United States
END:VEVENT
BEGIN:VEVENT
DTSTART;TZID=America/Detroit:20190827T190000
DTEND;TZID=America/Detroit:20190827T203000
DTSTAMP:20260424T130012
CREATED:20190821T135637Z
LAST-MODIFIED:20190821T135637Z
UID:1177-1566932400-1566937800@healthfoodsbyclaudia.com
SUMMARY:Hemp Derived CBD: Just The Facts w/ Miles Sarill
DESCRIPTION:
URL:https://healthfoodsbyclaudia.com/event/hemp-derived-cbd-just-the-facts-w-miles-sarill/
END:VEVENT
BEGIN:VEVENT
DTSTART;TZID=America/Detroit:20190824T110000
DTEND;TZID=America/Detroit:20190824T160000
DTSTAMP:20260424T130012
CREATED:20190821T173912Z
LAST-MODIFIED:20190821T175524Z
UID:1185-1566644400-1566662400@healthfoodsbyclaudia.com
SUMMARY:Dr. Judy St. John from St. John Chiropractic
DESCRIPTION:8
URL:https://healthfoodsbyclaudia.com/event/dr-judy-st-john-from-st-john-chiropractic/
LOCATION:Health Foods by Claudia\, 3904 Secor Rd\, Toledo\, OH\, 43623\, United States
END:VEVENT
BEGIN:VEVENT
DTSTART;TZID=America/Detroit:20190427T120000
DTEND;TZID=America/Detroit:20190427T160000
DTSTAMP:20260424T130012
CREATED:20190403T020214Z
LAST-MODIFIED:20190427T133748Z
UID:1084-1556366400-1556380800@healthfoodsbyclaudia.com
SUMMARY:Free Earth Day Event
DESCRIPTION:Come join us Saturday\, April 27th for our free  \nEarth Day Event. Noon-4pm \n  \nYou’ll get to meet some of our local vendors and farmers.
URL:https://healthfoodsbyclaudia.com/event/free-earth-day-event/
LOCATION:Health Foods by Claudia\, 3904 Secor Rd\, Toledo\, OH\, 43623\, United States
ATTACH;FMTTYPE=image/jpeg:https://healthfoodsbyclaudia.com/wp-content/uploads/2019/04/earth-3289810_960_720.jpg
END:VEVENT
BEGIN:VEVENT
DTSTART;TZID=America/Detroit:20190425T150000
DTEND;TZID=America/Detroit:20190425T163000
DTSTAMP:20260424T130012
CREATED:20190403T014621Z
LAST-MODIFIED:20190403T014848Z
UID:1078-1556204400-1556209800@healthfoodsbyclaudia.com
SUMMARY:Trust Your Gut
DESCRIPTION:Trust your gut: A digestive health event! \nBuild your foundation to good gut health and sustainable future!
URL:https://healthfoodsbyclaudia.com/event/trust-your-gut/
LOCATION:Health Foods by Claudia\, 3904 Secor Rd\, Toledo\, OH\, 43623\, United States
ATTACH;FMTTYPE=image/jpeg:https://healthfoodsbyclaudia.com/wp-content/uploads/2019/04/MegaFoodTrustYourGut.jpeg
END:VEVENT
BEGIN:VEVENT
DTSTART;TZID=America/Detroit:20190410T150000
DTEND;TZID=America/Detroit:20190410T163000
DTSTAMP:20260424T130012
CREATED:20190404T172938Z
LAST-MODIFIED:20190404T174649Z
UID:1096-1554908400-1554913800@healthfoodsbyclaudia.com
SUMMARY:Which Digestive Support Is Right For You?
DESCRIPTION:Which Digestive Support Is Right For You? \nw/Claudia David-Roscoe\nWednesday\, April 10th @ 7pm \nLearn how to choose which digestive support is right for you. \nClass Registration Fee: $5 in advance\, $10 at the door.
URL:https://healthfoodsbyclaudia.com/event/which-digestive-support-is-right-for-you/
LOCATION:Health Foods by Claudia\, 3904 Secor Rd\, Toledo\, OH\, 43623\, United States
ATTACH;FMTTYPE=image/png:https://healthfoodsbyclaudia.com/wp-content/uploads/2019/04/Digest-Bitters.png
END:VEVENT
END:VCALENDAR